BEGIN:VCALENDAR
VERSION:2.0
PRODID:-//Piazzetta delle Operaie - ECPv6.5.1.1//NONSGML v1.0//EN
CALSCALE:GREGORIAN
METHOD:PUBLISH
X-ORIGINAL-URL:https://www.piazzettadelleoperaie.it
X-WR-CALDESC:Eventi per Piazzetta delle Operaie
REFRESH-INTERVAL;VALUE=DURATION:PT1H
X-Robots-Tag:noindex
X-PUBLISHED-TTL:PT1H
BEGIN:VTIMEZONE
TZID:Europe/Rome
BEGIN:DAYLIGHT
TZOFFSETFROM:+0100
TZOFFSETTO:+0200
TZNAME:CEST
DTSTART:20240331T010000
END:DAYLIGHT
BEGIN:STANDARD
TZOFFSETFROM:+0200
TZOFFSETTO:+0100
TZNAME:CET
DTSTART:20241027T010000
END:STANDARD
END:VTIMEZONE
BEGIN:VEVENT
DTSTART;TZID=Europe/Rome:20240711T193000
DTEND;TZID=Europe/Rome:20240711T220000
DTSTAMP:20260424T062408
CREATED:20240615T152503Z
LAST-MODIFIED:20240615T152515Z
UID:8021-1720726200-1720735200@www.piazzettadelleoperaie.it
SUMMARY:Mercatino delle pulcette - Edizione 2024
DESCRIPTION:Torna a grande richiesta il mercatino delle pulcette dedicato ai bambini da 5 a 12 anni \nAppuntamenti in città all’insegna dello scambio\, del gioco e del ritrovarsi. \nVi aspettiamo dalle 19\,30 alle 22\,00
URL:https://www.piazzettadelleoperaie.it/event/mercatino-delle-pulcette/
LOCATION:Piazzetta delle Operaie\, Via Fossato Vecchio\, 2D\, Forlì\, 47121\, Italia
ATTACH;FMTTYPE=image/png:https://www.piazzettadelleoperaie.it/wp-content/uploads/2024/06/Screenshot-2024-06-15-alle-17.24.34.png
END:VEVENT
END:VCALENDAR