BEGIN:VCALENDAR
VERSION:2.0
PRODID:-//Piazzetta delle Operaie - ECPv6.5.1.1//NONSGML v1.0//EN
CALSCALE:GREGORIAN
METHOD:PUBLISH
X-WR-CALNAME:Piazzetta delle Operaie
X-ORIGINAL-URL:https://www.piazzettadelleoperaie.it
X-WR-CALDESC:Eventi per Piazzetta delle Operaie
REFRESH-INTERVAL;VALUE=DURATION:PT1H
X-Robots-Tag:noindex
X-PUBLISHED-TTL:PT1H
BEGIN:VTIMEZONE
TZID:Europe/Rome
BEGIN:DAYLIGHT
TZOFFSETFROM:+0100
TZOFFSETTO:+0200
TZNAME:CEST
DTSTART:20250330T010000
END:DAYLIGHT
BEGIN:STANDARD
TZOFFSETFROM:+0200
TZOFFSETTO:+0100
TZNAME:CET
DTSTART:20251026T010000
END:STANDARD
END:VTIMEZONE
BEGIN:VEVENT
DTSTART;TZID=Europe/Rome:20250611T190000
DTEND;TZID=Europe/Rome:20250611T213000
DTSTAMP:20260423T180856
CREATED:20250609T114302Z
LAST-MODIFIED:20250609T114302Z
UID:8111-1749668400-1749677400@www.piazzettadelleoperaie.it
SUMMARY:Letture interculturali per bambini - Mercoledì in corso
DESCRIPTION:Mercoledì 11 giugno alle ore 19 e alle ore 20.30 non prendere impegni! \nIn Piazzetta delle Operaie ti aspettano i laboratori di lettura di Favole interculturali interattive in più lingue “Leggimi una storia….e sono a casa” con la maestra Aniela. \n\nOgni mercoledì ci saranno tantissimi eventi per grandi e piccini\, per stare insieme e vivere la nostra splendida città con allegria e buon umore! \nTi aspettiamo! \n 
URL:https://www.piazzettadelleoperaie.it/event/letture-interculturali-per-bambini-mercoledi-in-corso/
LOCATION:Piazzetta delle Operaie\, Via Fossato Vecchio\, 2D\, Forlì\, 47121\, Italia
ATTACH;FMTTYPE=image/jpeg:https://www.piazzettadelleoperaie.it/wp-content/uploads/2025/06/WhatsApp-Image-2025-06-09-at-12.58.44.jpeg
ORGANIZER;CN="La Volpe e La Rosa":MAILTO:lavolpelarosa.info@libero.it
END:VEVENT
BEGIN:VEVENT
DTSTART;TZID=Europe/Rome:20250617T190000
DTEND;TZID=Europe/Rome:20250617T220000
DTSTAMP:20260423T180856
CREATED:20250609T110659Z
LAST-MODIFIED:20250609T110659Z
UID:8108-1750186800-1750197600@www.piazzettadelleoperaie.it
SUMMARY:Il Mercatino delle Pulcette
DESCRIPTION:📅Martedì 17 giugno \n📍Piazzetta delle Operaie\, ex Fabbrica Battistini \nAccoglienza iscritti: via paradiso 5 \n  \nIl Mercatino dei bambini e delle bambine non è solo un luogo di scambio\, ma un piccolo mondo dove gioco\, incontro e creatività si intrecciano. È un’occasione speciale per i più piccoli per sperimentare\, con leggerezza\, cosa significhi dare valore agli oggetti\, riflettere su desideri e bisogni e avvicinarsi ai temi del risparmio e dell’uso del denaro. \nIl mercatino è aperto a bambine e bambini dai 5 ai 12 anni compiuti\, che potranno gestire in autonomia il proprio spazio di scambio e/o compra-vendita. Ogni partecipante sarà accompagnato da un adulto di riferimento\, che avrà il compito di garantire serenità e rispetto del gioco.\nAd ciascun adulto sarà assegnata una sola postazione (mt 2×2) che potrà ospitare più bambini. Se desiderate stare vicino ad un amico presentatevi insieme! \nSarà possibile allestire il proprio spazio a partire dalle ore 19.00. \nIl mercatino è un gioco per bambini. Non è consentito agli adulti vendere o acquistare per conto proprio. Mamma\, papà e accompagnatori sono invitati a supportare i più piccoli nella preparazione\, ma sempre lasciando a loro la conduzione dell’esperienza. \nLa partecipazione è gratuita. \nBiciclette e cani di tutte le taglie non sono ammessi nell’area del mercatino. \n  \nÈ necessario prenotare la postazione su: icos.comune.forli.fc.it \nPer informazioni:\nCentro per le Famiglie della Romagna Forlivese\n0543 712667\ncentrofamiglie@comune.forli.fc.it \n 
URL:https://www.piazzettadelleoperaie.it/event/il-mercatino-delle-pulcette/
LOCATION:via Paradiso 5\, Forlì\, Italia
ATTACH;FMTTYPE=image/jpeg:https://www.piazzettadelleoperaie.it/wp-content/uploads/2025/06/IMG_1366.jpeg
END:VEVENT
BEGIN:VEVENT
DTSTART;TZID=Europe/Rome:20250620T203000
DTEND;TZID=Europe/Rome:20250620T230000
DTSTAMP:20260423T180856
CREATED:20250609T094728Z
LAST-MODIFIED:20250609T095233Z
UID:8101-1750451400-1750460400@www.piazzettadelleoperaie.it
SUMMARY:Cena con delitto. Il Condominio di Via Fossato Vecchio
DESCRIPTION:📅 Venerdì 20 giugno 2025🕣 Ore 20:30📍 Via Paradiso 5 – Piazzetta delle Operaie \nNel palazzo più bizzarro della città\, la riunione condominiale è sull’orlo del disastro. Vicini pazzi\, segreti da pianerottolo\, e un amministratore che… beh\, stavolta non se la cava proprio! \nRumori molesti\, misteri postali\, pettegolezzi di scala:c’è un enigma da risolvere\, e servono menti brillanti e spirito di squadra. \nForma la tua squadra da 2 a 6 persone e preparati a ridere\, indagare e\, forse\, trovare la verità dietro il caos. \nPrenotazioni entro il 13 giugno. \nVi aspettiamo nel Condominio delle Follie! \n  \n 
URL:https://www.piazzettadelleoperaie.it/event/cena-con-delitto-il-condominio-di-via-fossato-vecchio/
LOCATION:via Paradiso 5\, Forlì\, Italia
ATTACH;FMTTYPE=image/jpeg:https://www.piazzettadelleoperaie.it/wp-content/uploads/2025/06/WhatsApp-Image-2025-06-07-at-08.25.06.jpeg
ORGANIZER;CN="La Volpe e La Rosa":MAILTO:lavolpelarosa.info@libero.it
END:VEVENT
BEGIN:VEVENT
DTSTART;TZID=Europe/Rome:20250729T203000
DTEND;TZID=Europe/Rome:20250729T230000
DTSTAMP:20260423T180856
CREATED:20250728T093158Z
LAST-MODIFIED:20250728T093158Z
UID:8115-1753821000-1753830000@www.piazzettadelleoperaie.it
SUMMARY:Storie di Forlì - Rassegna d'autore
DESCRIPTION:Si terrà in Piazzetta delle Operaie il terzo incontro della rassegna d’autore “Storie di Forlì”.\nAppuntamento per martedì 29 luglio alle 20:45 con la presentazione del libro “𝐶𝑎𝑙𝑧𝑎𝑡𝑢𝑟𝑖𝑓𝑖𝑐𝑖𝑜 𝑇𝑟𝑒𝑛𝑡𝑜 𝐹𝑟𝑎𝑡𝑒𝑙𝑙𝑖 𝐵𝑎𝑡𝑡𝑖𝑠𝑡𝑖𝑛𝑖. 𝑆𝑡𝑜𝑟𝑖𝑎 𝑑𝑒𝑙𝑙𝑎 𝑝𝑟𝑖𝑚𝑎 𝑔𝑒𝑛𝑒𝑟𝑎𝑧𝑖𝑜𝑛𝑒 𝑑𝑖 𝑖𝑚𝑝𝑟𝑒𝑛𝑑𝑖𝑡𝑜𝑟𝑖 𝑑𝑎 𝐹𝑜𝑟𝑙𝑖̀ 𝑎 𝑀𝑜𝑛𝑎𝑠𝑡𝑖𝑒𝑟 𝑑𝑖 𝑇𝑟𝑒𝑣𝑖𝑠𝑜” di Annalisa Battistini che dialogherà con il giornalista Pietro Caruso.\n\n\n\nAl termine della presentazione del libro di Annalisa Battistini\, l’artista Marcello di Camillo\, condurrà una visita guidata al ciclo di murales da lui realizzati dal titolo “I Racconti dell’Umano”\, che si trovano nei porticati del complesso che un tempo era la sede dell’ex fabbrica Battistini.\n\n\nL’ingresso è gratuito e senza prenotazione\, fino a esaurimento posti.\n\nPer informazioni :\n\n\nBiblioteca A. Saffi\nTel. 0543-712615\nbiblioteca-saffi@comune.forli.fc.it\nwww.scopriforli.it
URL:https://www.piazzettadelleoperaie.it/event/storie-di-forli-rassegna-dautore/
LOCATION:Piazzetta delle Operaie\, Via Fossato Vecchio\, 2D\, Forlì\, 47121\, Italia
ATTACH;FMTTYPE=image/jpeg:https://www.piazzettadelleoperaie.it/wp-content/uploads/2025/07/WhatsApp-Image-2025-07-27-at-16.03.10.jpeg
ORGANIZER;CN="Biblioteca A. Saffi":MAILTO:biblioteca-saffi@comune.forli.fc.it
END:VEVENT
END:VCALENDAR