BEGIN:VCALENDAR
VERSION:2.0
PRODID:-//Piazzetta delle Operaie - ECPv6.5.1.1//NONSGML v1.0//EN
CALSCALE:GREGORIAN
METHOD:PUBLISH
X-WR-CALNAME:Piazzetta delle Operaie
X-ORIGINAL-URL:https://www.piazzettadelleoperaie.it
X-WR-CALDESC:Eventi per Piazzetta delle Operaie
REFRESH-INTERVAL;VALUE=DURATION:PT1H
X-Robots-Tag:noindex
X-PUBLISHED-TTL:PT1H
BEGIN:VTIMEZONE
TZID:Europe/Rome
BEGIN:DAYLIGHT
TZOFFSETFROM:+0100
TZOFFSETTO:+0200
TZNAME:CEST
DTSTART:20250330T010000
END:DAYLIGHT
BEGIN:STANDARD
TZOFFSETFROM:+0200
TZOFFSETTO:+0100
TZNAME:CET
DTSTART:20251026T010000
END:STANDARD
END:VTIMEZONE
BEGIN:VEVENT
DTSTART;TZID=Europe/Rome:20250126T160000
DTEND;TZID=Europe/Rome:20250126T180000
DTSTAMP:20260424T005652
CREATED:20250606T143446Z
LAST-MODIFIED:20250609T092309Z
UID:8059-1737907200-1737914400@www.piazzettadelleoperaie.it
SUMMARY:Col.M.A.Te. - Collettività\, Memoria e Attivazione nei Territori post-disastro
DESCRIPTION:Con la convinzione che l’azione dal basso sia uno strumento fondamentale verso la giustizia sociale\, siamo felici di comunicarvi che domenica 26 gennaio alle ore 16.00 in ci sarà l’aperitivo di presentazione del progetto Col.M.A.Te. – Collettività\, Memoria e Attivazione nei Territori post-disastro\, un primo momento per conoscerci e immaginare insieme questo percorso. \nInfatti\, in continuità con il nostro impegno nel post-alluvione e grazie alla fondamentale collaborazione con ActionAid\, abbiamo immaginato un progetto in cui la comunità possa essere protagonista\, per creare insieme consapevolezza e restituire centralità al tema dei disastri e della giustizia ambientale nella città di Forlì. Questo percorso partecipativo si rivolge a tutta la cittadinanza e punta a costruire legami\, immaginare momenti di condivisione e narrazione\, ma anche azioni concrete nei territori colpiti. \nIl benessere comunitario e la memoria collettiva sono due strumenti fondamentali da mettere in campo davanti a un presente in cui gli eventi estremi sono in continuo aumento e Col.M.A.Te. vuole essere un luogo dove coltivarli. \nPer motivi organizzativi è gradita conferma di partecipazione al numero 320 4674891
URL:https://www.piazzettadelleoperaie.it/event/col-m-a-te-collettivita-memoria-e-attivazione-nei-territori-post-disastro/
LOCATION:via Paradiso 5\, Forlì\, Italia
ATTACH;FMTTYPE=image/jpeg:https://www.piazzettadelleoperaie.it/wp-content/uploads/2025/06/WhatsApp-Image-2025-06-06-at-15.49.04.jpeg
END:VEVENT
END:VCALENDAR