BEGIN:VCALENDAR
VERSION:2.0
PRODID:-//Piazzetta delle Operaie - ECPv6.5.1.1//NONSGML v1.0//EN
CALSCALE:GREGORIAN
METHOD:PUBLISH
X-WR-CALNAME:Piazzetta delle Operaie
X-ORIGINAL-URL:https://www.piazzettadelleoperaie.it
X-WR-CALDESC:Eventi per Piazzetta delle Operaie
REFRESH-INTERVAL;VALUE=DURATION:PT1H
X-Robots-Tag:noindex
X-PUBLISHED-TTL:PT1H
BEGIN:VTIMEZONE
TZID:Europe/Rome
BEGIN:DAYLIGHT
TZOFFSETFROM:+0100
TZOFFSETTO:+0200
TZNAME:CEST
DTSTART:20240331T010000
END:DAYLIGHT
BEGIN:STANDARD
TZOFFSETFROM:+0200
TZOFFSETTO:+0100
TZNAME:CET
DTSTART:20241027T010000
END:STANDARD
END:VTIMEZONE
BEGIN:VEVENT
DTSTART;TZID=Europe/Rome:20241219T190000
DTEND;TZID=Europe/Rome:20241219T210000
DTSTAMP:20260424T022228
CREATED:20250609T090951Z
LAST-MODIFIED:20250611T125712Z
UID:8087-1734634800-1734642000@www.piazzettadelleoperaie.it
SUMMARY:Bibliothè. Abitare. Consigli di lettura
DESCRIPTION:☕ Bibliothè: autoformazione\, tisane e biscotti vegani \n📚 giovedì 19 dicembre ore 19 \n📍via Fossato Vecchio 2D Forlì \nIn preparazione alla nostra serata di autoformazione sul tema del diritto alla casa\, vi presentiamo alcuni dei libri che trovate in biblioteca 🌈 \nPartiremo da questi testi per riflettere su domande come: chi progetta le città e per chi? Come ci immaginiamo la città del futuro – e cosa vuol dire vivere in una città ecofemminista? Che problemi riscontriamo\, come student3\, lavorator3 e abitanti della provincia italiana e che soluzioni possiamo immaginare? \nVi aspettiamo giovedì 19 dicembre: portate solo voi stess3\, le vostre idee e\, se volete\, una tazza per il the e la vostra copertina preferita 🍵
URL:https://www.piazzettadelleoperaie.it/event/bibliothe-abitare-consigli-di-lettura/
LOCATION:Piazzetta delle Operaie\, Via Fossato Vecchio\, 2D\, Forlì\, 47121\, Italia
ATTACH;FMTTYPE=image/jpeg:https://www.piazzettadelleoperaie.it/wp-content/uploads/2025/06/IMG_1361.jpg
END:VEVENT
END:VCALENDAR