BEGIN:VCALENDAR
VERSION:2.0
PRODID:-//Piazzetta delle Operaie - ECPv6.5.1.1//NONSGML v1.0//EN
CALSCALE:GREGORIAN
METHOD:PUBLISH
X-WR-CALNAME:Piazzetta delle Operaie
X-ORIGINAL-URL:https://www.piazzettadelleoperaie.it
X-WR-CALDESC:Eventi per Piazzetta delle Operaie
REFRESH-INTERVAL;VALUE=DURATION:PT1H
X-Robots-Tag:noindex
X-PUBLISHED-TTL:PT1H
BEGIN:VTIMEZONE
TZID:Europe/Rome
BEGIN:DAYLIGHT
TZOFFSETFROM:+0100
TZOFFSETTO:+0200
TZNAME:CEST
DTSTART:20240331T010000
END:DAYLIGHT
BEGIN:STANDARD
TZOFFSETFROM:+0200
TZOFFSETTO:+0100
TZNAME:CET
DTSTART:20241027T010000
END:STANDARD
END:VTIMEZONE
BEGIN:VEVENT
DTSTART;TZID=Europe/Rome:20240921T194500
DTEND;TZID=Europe/Rome:20240921T233000
DTSTAMP:20260424T051805
CREATED:20240903T070859Z
LAST-MODIFIED:20240903T071207Z
UID:8036-1726947900-1726961400@www.piazzettadelleoperaie.it
SUMMARY:Il mistero del fossato - Cena con delitto
DESCRIPTION:Mistero e tragedia alla fabbrica di scarpe di Forlì \nLa guerra sembra ormai avviata verso la conclusione. I tedeschi in ritirata hanno saccheggiato la Battistini e\, dopo di loro\, pure i Forlivesi.\nMa non basta: è stato rinvenuto anche un cadavere! \nCos’altro potrebbe ancora accadere? \n  \nSono tornate le cene con delitto della volpe e la rosa\nDue date: 20 e 21 settembre 2024 finalmente nella nostra piazzetta delle operaie!\n📍Accoglienza:\nvia Paradiso 5 \nIscrivi la tua squadra dai 2 ai 6 giocatori entro il 10 settembre \n🍾Scegliete il vostro menù e le bevande tra: \n\n1 bottiglia di vino ogni 4 persone\,\n1 birra da 33cl a persona\n1 bibita a scelta\nAcqua illimitata!\n\nPer info e prenotazioni\nJenny 3345764263\nGuenda 3337136664 \nlavolpelarosa.info@libero.it \n  \nEvento organizzato in collaborazione con il Comune di Forlì\, La Baita del Buongustaio\, L’orto di Enrico e E Music Store
URL:https://www.piazzettadelleoperaie.it/event/il-mistero-del-fossato-cena-con-delitto-2/
LOCATION:La Volpe e La Rosa\, Via Paradiso\, 5\, Forlì\, 47121\, Italia
ATTACH;FMTTYPE=image/png:https://www.piazzettadelleoperaie.it/wp-content/uploads/2024/09/Screenshot-2024-09-03-alle-09.10.51.png
ORGANIZER;CN="La Volpe e La Rosa":MAILTO:lavolpelarosa.info@libero.it
END:VEVENT
END:VCALENDAR