BEGIN:VCALENDAR
VERSION:2.0
PRODID:-//Piazzetta delle Operaie - ECPv6.5.1.1//NONSGML v1.0//EN
CALSCALE:GREGORIAN
METHOD:PUBLISH
X-ORIGINAL-URL:https://www.piazzettadelleoperaie.it
X-WR-CALDESC:Eventi per Piazzetta delle Operaie
REFRESH-INTERVAL;VALUE=DURATION:PT1H
X-Robots-Tag:noindex
X-PUBLISHED-TTL:PT1H
BEGIN:VTIMEZONE
TZID:Europe/Rome
BEGIN:DAYLIGHT
TZOFFSETFROM:+0100
TZOFFSETTO:+0200
TZNAME:CEST
DTSTART:20240331T010000
END:DAYLIGHT
BEGIN:STANDARD
TZOFFSETFROM:+0200
TZOFFSETTO:+0100
TZNAME:CET
DTSTART:20241027T010000
END:STANDARD
END:VTIMEZONE
BEGIN:VEVENT
DTSTART;TZID=Europe/Rome:20240623T150000
DTEND;TZID=Europe/Rome:20240623T200000
DTSTAMP:20260424T081634
CREATED:20240614T082856Z
LAST-MODIFIED:20240615T152625Z
UID:7922-1719154800-1719172800@www.piazzettadelleoperaie.it
SUMMARY:Assemblea - Diritto alla casa
DESCRIPTION:RIMANDATO AL 23 GIUGNO \nDopo la manifestazione del 13 aprile e quella del 1 giugno\, torniamo a riunirci in assemblea il 15 giugno alle ore 15 per continuare il percorso di riflessione e mobilitazione sul diritto alla casa.\nDobbiamo continuare a dirci che Forlì è una città razzista e per le persone nere è impossibile trovare casa\, anche quando hanno un contratto di lavoro stabile.\nDobbiamo continuare a dirci che il Campus di Forlì continua ad espandersi senza pensare minimamente ad ampliare gli studentati\, con il risultato che chi studia a Forlì deve pagare prezzi sempre più alti.\nDecidiamo insieme come procedere in questa mobilitazione per un piano abitativo serio in città! \nInglese:\nAfter the demonstration of April 13 and that of June 1\, we return to meet in the assembly on June 15 at 15 to continue the path of reflection and mobilization on the right to housing.\nWe have to keep telling ourselves that Forlì is a racist city and for black people it is impossible to find a home\, even when they have a stable employment contract.\nWe must continue to tell us that the Forlì Campus continues to expand without thinking about expanding university residences\, with the result that those who study in Forlì must pay higher and higher prices.\nLet’s decide together how to proceed in this mobilization for a serious housing plan in the city! \nFrancese:\nAprès la manifestation du 13 avril et celle du 1 juin\, nous nous réunissons à nouveau en assemblée le 15 juin à 15 heures pour poursuivre le parcours de réflexion et de mobilisation sur le droit au logement.\nNous devons continuer à nous dire que Forli est une ville raciste et qu’il est impossible pour les Noirs de trouver un logement\, même lorsqu’ils ont un contrat de travail stable.\nNous devons continuer à nous dire que le campus de Forli continue de se développer sans penser à agrandir les résidences universitaires\, ce qui a pour conséquence que ceux qui étudient à Forli doivent payer des prix de plus en plus élevés.\nDécidons ensemble comment procéder dans cette mobilisation pour un plan d’habitation sérieux en ville! \n  \n 
URL:https://www.piazzettadelleoperaie.it/event/assemblea-diritto-alla-casa/
LOCATION:Piazzetta delle Operaie\, Via Fossato Vecchio\, 2D\, Forlì\, 47121\, Italia
ATTACH;FMTTYPE=image/jpeg:https://www.piazzettadelleoperaie.it/wp-content/uploads/2024/06/WhatsApp-Image-2024-06-15-at-14.36.05.jpeg
END:VEVENT
END:VCALENDAR