BEGIN:VCALENDAR
VERSION:2.0
PRODID:-//Piazzetta delle Operaie - ECPv6.5.1.1//NONSGML v1.0//EN
CALSCALE:GREGORIAN
METHOD:PUBLISH
X-WR-CALNAME:Piazzetta delle Operaie
X-ORIGINAL-URL:https://www.piazzettadelleoperaie.it
X-WR-CALDESC:Eventi per Piazzetta delle Operaie
REFRESH-INTERVAL;VALUE=DURATION:PT1H
X-Robots-Tag:noindex
X-PUBLISHED-TTL:PT1H
BEGIN:VTIMEZONE
TZID:Europe/Rome
BEGIN:DAYLIGHT
TZOFFSETFROM:+0100
TZOFFSETTO:+0200
TZNAME:CEST
DTSTART:20240331T010000
END:DAYLIGHT
BEGIN:STANDARD
TZOFFSETFROM:+0200
TZOFFSETTO:+0100
TZNAME:CET
DTSTART:20241027T010000
END:STANDARD
END:VTIMEZONE
BEGIN:VEVENT
DTSTART;TZID=Europe/Rome:20240528T180000
DTEND;TZID=Europe/Rome:20240528T210000
DTSTAMP:20260424T081529
CREATED:20240614T085257Z
LAST-MODIFIED:20240614T085257Z
UID:7940-1716919200-1716930000@www.piazzettadelleoperaie.it
SUMMARY:Mobilitazione per la libertà della Palestina e contro il genocidio
DESCRIPTION:Chiamiamo la città di Forlì ad unirsi al movimento transnazionale in sostegno alla causa palestinese\, attraverso un corteo pacifico cittadino che avrà luogo il 28 maggio\, alle ore 18\, in Piazza Ordelaffi. \nAl momento\, la situazione in Palestina lede ogni principio del diritto umanitario.\nA inizio maggio Israele ha lanciato un attacco militare su Rafah\, dove si sono rifugiati in cerca di riparo più di 1\,4 milioni di civili palestinesi dall’inizio dell’invasione di Gaza\, contravvenendo le basi del diritto umanitario internazionale e intenzionalmente colpendo obiettivi civili (tra cui\, ad esempio\, ospedali). Le vittime\, ad oggi\, superano le 35000.\nInoltre\, negando l’accesso a Gaza di cibo e acqua\, Israele si macchia di utilizzare la fame come arma di guerra\, crimine proibito dal diritto internazionale. \nDenunciamo che il nostro governo della Repubblica Italiana:\n1. non si è posizionato\, in modo netto ed inequivocabile\, contro il genocidio in corso in Palestina\n2. non ha cessato l’invio di armi allo stato di Israele\n3. non si è distanziato dalla posizione degli Stati Uniti\, paese membro della NATO\, il cui presidente Biden ha dichiarato che continuerà a sostenere Israele\, nonostante il mandato d’arresto della Corte Penale Internazionale contro il primo ministro israeliano Netanyahu\n4. non ha riconosciuto lo stato palestinese\, come è stato fatto da Norvegia\, Spagna e Irlanda. \nQuanto riportato sopra rende il governo italiano complice del genocidio in corso. \nPer tutti i motivi sopra citati\, ci mobilitiamo in un nuovo corteo cittadino\, che esprime il suo supporto agli studenti accampati in tutta Italia e nel mondo a sostegno della Palestina e che chiede quindi al Comune di Forlì\, in ultima istanza:\n1. di posizionarsi\, in modo netto ed inequivocabile\, contro il genocidio in corso in Palestina e di esprimere il suo appoggio alla questione palestinese\n2. di posizionare\, accanto alla bandiera per Giulio Regeni\, una bandiera che reciti “Stop al genocidio”.
URL:https://www.piazzettadelleoperaie.it/event/mobilitazione-per-la-liberta-della-palestina-e-contro-il-genocidio/
LOCATION:Piazza Ordelaffi\, Piazza Ordelaffi\, Forlì\, 47121\, Italia
ATTACH;FMTTYPE=image/jpeg:https://www.piazzettadelleoperaie.it/wp-content/uploads/2024/06/WhatsApp-Image-2024-05-28-at-08.04.20.jpeg
END:VEVENT
END:VCALENDAR