BEGIN:VCALENDAR
VERSION:2.0
PRODID:-//Piazzetta delle Operaie - ECPv6.5.1.1//NONSGML v1.0//EN
CALSCALE:GREGORIAN
METHOD:PUBLISH
X-ORIGINAL-URL:https://www.piazzettadelleoperaie.it
X-WR-CALDESC:Eventi per Piazzetta delle Operaie
REFRESH-INTERVAL;VALUE=DURATION:PT1H
X-Robots-Tag:noindex
X-PUBLISHED-TTL:PT1H
BEGIN:VTIMEZONE
TZID:Europe/Rome
BEGIN:DAYLIGHT
TZOFFSETFROM:+0100
TZOFFSETTO:+0200
TZNAME:CEST
DTSTART:20230326T010000
END:DAYLIGHT
BEGIN:STANDARD
TZOFFSETFROM:+0200
TZOFFSETTO:+0100
TZNAME:CET
DTSTART:20231029T010000
END:STANDARD
END:VTIMEZONE
BEGIN:VEVENT
DTSTART;TZID=Europe/Rome:20231015T170000
DTEND;TZID=Europe/Rome:20231015T210000
DTSTAMP:20260424T171103
CREATED:20240614T094600Z
LAST-MODIFIED:20240614T094600Z
UID:7974-1697389200-1697403600@www.piazzettadelleoperaie.it
SUMMARY:Prendersi cura - Giornata 2
DESCRIPTION:“Decolonizzare la salute mentale: differenziare le pratiche di cura”\nNe parliamo con:\nFilippo Casadei: psicologo clinico e psicoterapeuta ad orientamento analitico\, con un dottorato in antropologia ed epistemologia della complessità. Ha lavorato in ambito etnopsichiatrico con mediatori culturali e gruppi di pazienti provenienti da varie aree del mondo.\nAriman Scriba: ragazza di origini marocchine nata e cresciuta a Milano\, concentra le sue ricerche e i suoi scritti sulla salute mentale e sulle forme di oppressioni che ledono il benessere psichico. Lavora come social media manager e contributor writer per differenti realtà. Molta della sua attività si svolge anche su Instagram dove ha un seguito di oltre 13mila persone.\nValentina Stirone: psicologa\, psicoterapeuta con formazione psicoanalitica ad indirizzo relazionale e formazione specialistica in psicotraumatologia. Lavora in ambito psichiatrico e multiculturale\, in particolare con persone in situazione di grave marginalità e disagio mentale.
URL:https://www.piazzettadelleoperaie.it/event/prendersi-cura-giornata-2/
LOCATION:Piazzetta delle Operaie\, Via Fossato Vecchio\, 2D\, Forlì\, 47121\, Italia
ATTACH;FMTTYPE=image/jpeg:https://www.piazzettadelleoperaie.it/wp-content/uploads/2024/06/15_FCA.jpg
END:VEVENT
END:VCALENDAR