BEGIN:VCALENDAR
VERSION:2.0
PRODID:-//Piazzetta delle Operaie - ECPv6.5.1.1//NONSGML v1.0//EN
CALSCALE:GREGORIAN
METHOD:PUBLISH
X-WR-CALNAME:Piazzetta delle Operaie
X-ORIGINAL-URL:https://www.piazzettadelleoperaie.it
X-WR-CALDESC:Eventi per Piazzetta delle Operaie
REFRESH-INTERVAL;VALUE=DURATION:PT1H
X-Robots-Tag:noindex
X-PUBLISHED-TTL:PT1H
BEGIN:VTIMEZONE
TZID:Europe/Rome
BEGIN:DAYLIGHT
TZOFFSETFROM:+0100
TZOFFSETTO:+0200
TZNAME:CEST
DTSTART:20230326T010000
END:DAYLIGHT
BEGIN:STANDARD
TZOFFSETFROM:+0200
TZOFFSETTO:+0100
TZNAME:CET
DTSTART:20231029T010000
END:STANDARD
END:VTIMEZONE
BEGIN:VEVENT
DTSTART;TZID=Europe/Rome:20231012T183000
DTEND;TZID=Europe/Rome:20231012T220000
DTSTAMP:20260424T171044
CREATED:20240614T094448Z
LAST-MODIFIED:20240614T094448Z
UID:7971-1697135400-1697148000@www.piazzettadelleoperaie.it
SUMMARY:Prendersi cura - Giornata 1
DESCRIPTION:“La salute mentale dopo un disastro: psicologia comunitaria dell’emergenza”\nNe parliamo con:\nGianpaolo Contestabile: psicologo della Brigata Basaglia. Dottorando in Psicologia sociale presso l’Università Autonoma Metropolitana di Città del Messico sui temi della salute comunitaria e l’autogestione in contesti di crisi ed emergenza.\nEster Chicco: presidente dell’Associazione Psicologi nel Mondo – Torino. Ha redatto un capitolo del libro prodotto dalle BSA su Fiastra intitolato “Fiastra tra mare e monti” in occasione del sisma\, insieme ad Alfredo Mela. Insieme hanno anche pubblicato il libro “Comunità e cooperazione. Un intervento sul benessere psicologico nel Salvador”.\nAlfredo Mela: sociologo e professore di Sociologia delle città e del territorio al Politecnico di Torino\, ha affrontato la sociologia dei disastri e pubblicato il libro “Territori vulnerabili. Verso una nuova sociologia dei disastri italiana”.
URL:https://www.piazzettadelleoperaie.it/event/prendersi-cura-giornata-1/
LOCATION:Piazzetta delle Operaie\, Via Fossato Vecchio\, 2D\, Forlì\, 47121\, Italia
ATTACH;FMTTYPE=image/jpeg:https://www.piazzettadelleoperaie.it/wp-content/uploads/2024/06/15_FCA.jpg
END:VEVENT
END:VCALENDAR